BEGIN:VCALENDAR
VERSION:2.0
PRODID:spatie/icalendar-generator
DESCRIPTION:Events from Integrated Behavioral Technologies\, Inc.
X-WR-CALDESC:Events from Integrated Behavioral Technologies\, Inc.
REFRESH-INTERVAL;VALUE=DURATION:PT1440M
X-PUBLISHED-TTL:PT1440M
BEGIN:VTIMEZONE
TZID:Etc/GMT+0
BEGIN:STANDARD
DTSTART:20250704T000000Z
TZOFFSETFROM:+0000
TZOFFSETTO:+0000
END:STANDARD
END:VTIMEZONE
BEGIN:VTIMEZONE
TZID:UTC
BEGIN:STANDARD
DTSTART:20250724T131536Z
TZOFFSETFROM:+0000
TZOFFSETTO:+0000
END:STANDARD
END:VTIMEZONE
BEGIN:VEVENT
UID:14-5
DTSTAMP:20260420T131536Z
SUMMARY:Pittsburg Mobile Assessment Clinic
LOCATION:Pittsburg\, KS
ORGANIZER;CN=Admin:MAILTO:admin@ibt-inc.org
DTSTART;TZID=Etc/GMT+0;VALUE=DATE:20260331
DTEND;TZID=Etc/GMT+0;VALUE=DATE:20260401
X-ALT-DESC;FMTTYPE=TEXT/HTML:🚨 Pittsburg Mobile Assessment Clinic 🚨 L
 imited spots available! Our IBT Mobile Clinic is coming to Pittsburg to pr
 ovide autism assessments for children and families in the area. If you’r
 e interested\, don’t wait — secure your place on our waitlist today. 
 🔗 Join the waitlist here: https://ibt-inc.org/services/#waitlist
CATEGORIES:Mobile Assessment Clinic
URL;VALUE=URI:https://ibt-inc.org/mc-events/pittsburg-mobile-assessment-cli
 nic-2/
METHOD:PUBLISH
END:VEVENT
END:VCALENDAR