BEGIN:VCALENDAR
VERSION:2.0
PRODID:spatie/icalendar-generator
DESCRIPTION:Events from Integrated Behavioral Technologies\, Inc.
X-WR-CALDESC:Events from Integrated Behavioral Technologies\, Inc.
REFRESH-INTERVAL;VALUE=DURATION:PT1440M
X-PUBLISHED-TTL:PT1440M
BEGIN:VTIMEZONE
TZID:Etc/GMT+0
BEGIN:STANDARD
DTSTART:20250706T000000Z
TZOFFSETFROM:+0000
TZOFFSETTO:+0000
END:STANDARD
END:VTIMEZONE
BEGIN:VTIMEZONE
TZID:UTC
BEGIN:STANDARD
DTSTART:20250724T151408Z
TZOFFSETFROM:+0000
TZOFFSETTO:+0000
END:STANDARD
END:VTIMEZONE
BEGIN:VEVENT
UID:23-10
DTSTAMP:20260420T151408Z
SUMMARY:World Autism Acceptance Day - Jefferson's Resturants
LOCATION:
ORGANIZER;CN=Admin:MAILTO:admin@ibt-inc.org
DTSTART;TZID=Etc/GMT+0;VALUE=DATE:20260402
DTEND;TZID=Etc/GMT+0;VALUE=DATE:20260403
X-ALT-DESC;FMTTYPE=TEXT/HTML:15% of your tab goes to IBT! Locations: Jeffer
 son's Lenexa &amp;amp\; Jefferson's North Kansas City
CATEGORIES:Autism Acceptance Events
URL;VALUE=URI:https://ibt-inc.org/mc-events/world-autism-acceptance-day-jef
 fersons-resturants/
METHOD:PUBLISH
END:VEVENT
END:VCALENDAR