BEGIN:VCALENDAR
VERSION:2.0
PRODID:spatie/icalendar-generator
DESCRIPTION:Events from Integrated Behavioral Technologies\, Inc.
X-WR-CALDESC:Events from Integrated Behavioral Technologies\, Inc.
REFRESH-INTERVAL;VALUE=DURATION:PT1440M
X-PUBLISHED-TTL:PT1440M
BEGIN:VTIMEZONE
TZID:Etc/GMT+0
BEGIN:STANDARD
DTSTART:20250601T000000Z
TZOFFSETFROM:+0000
TZOFFSETTO:+0000
END:STANDARD
END:VTIMEZONE
BEGIN:VTIMEZONE
TZID:UTC
BEGIN:STANDARD
DTSTART:20250725T114703Z
TZOFFSETFROM:+0000
TZOFFSETTO:+0000
END:STANDARD
END:VTIMEZONE
BEGIN:VEVENT
UID:5-3
DTSTAMP:20260421T114703Z
SUMMARY:Topeka Mobile Assessment Clinic
LOCATION:Topeka\, KS
ORGANIZER;CN=Admin:MAILTO:admin@ibt-inc.org
DTSTART;TZID=Etc/GMT+0;VALUE=DATE:20260226
DTEND;TZID=Etc/GMT+0;VALUE=DATE:20260227
X-ALT-DESC;FMTTYPE=TEXT/HTML:
CATEGORIES:Mobile Assessment Clinic
URL;VALUE=URI:https://ibt-inc.org/mc-events/topeka-mobile-assessment-clinic
 /
METHOD:PUBLISH
END:VEVENT
END:VCALENDAR